BEGIN:VCALENDAR
VERSION:2.0
PRODID:-//Sunbury Shores - ECPv6.15.20//NONSGML v1.0//EN
CALSCALE:GREGORIAN
METHOD:PUBLISH
X-ORIGINAL-URL:https://sunburyshores.org
X-WR-CALDESC:Events for Sunbury Shores
REFRESH-INTERVAL;VALUE=DURATION:PT1H
X-Robots-Tag:noindex
X-PUBLISHED-TTL:PT1H
BEGIN:VTIMEZONE
TZID:UTC
BEGIN:STANDARD
TZOFFSETFROM:+0000
TZOFFSETTO:+0000
TZNAME:UTC
DTSTART:20240101T000000
END:STANDARD
END:VTIMEZONE
BEGIN:VEVENT
DTSTART;TZID=UTC:20250220T160000
DTEND;TZID=UTC:20250220T170000
DTSTAMP:20260419T210401
CREATED:20250120T190226Z
LAST-MODIFIED:20250130T220431Z
UID:22604-1740067200-1740070800@sunburyshores.org
SUMMARY:Artist Talk: Breath with Ann Manuel and Matthew Brown
DESCRIPTION:Breath: Installation by Ann Manuel;  \nFilm by Matthew Brown \nA call for reflection away from the distractions and noise of everyday lives\, in her installation Breath\, Ann Manuel intricately wraps moments and objects into metaphors\, inviting reflection on our connection to family\, our separation from nature\, and the inevitable ebbs and flows of our lives.  \nBreath is the final work in the Sanctuary series which Ann began two decades ago. The inspiration for the series began with the last breath of Ann’s father and ended with the last wish of her mother\, almost sixteen years apart. Ann has been working as a multi-disciplinary artist with a focus on drawing\, painting\, printmaking\, and installation. Over many years\, she has been a supporter\, advocate\, educator\, and studio artist at Sunbury Shores\, sharing her skills and inspiration with the community. The installation includes a film of the same name by New Brunswick filmmaker Matthew Brown.
URL:https://sunburyshores.org/event/artist-talk-breath-with-ann-manuel-and-matthew-brown/
LOCATION:Sunbury Shores\, 139 Water Street\, St Andrews\, New Brunswick\, E5B 1A7\, Canada
ORGANIZER;CN="Sunbury Shores":MAILTO:info@sunburyshores.org
END:VEVENT
END:VCALENDAR