BEGIN:VCALENDAR
VERSION:2.0
PRODID:-//Sunbury Shores - ECPv6.15.20//NONSGML v1.0//EN
CALSCALE:GREGORIAN
METHOD:PUBLISH
X-WR-CALNAME:Sunbury Shores
X-ORIGINAL-URL:https://sunburyshores.org
X-WR-CALDESC:Events for Sunbury Shores
REFRESH-INTERVAL;VALUE=DURATION:PT1H
X-Robots-Tag:noindex
X-PUBLISHED-TTL:PT1H
BEGIN:VTIMEZONE
TZID:UTC
BEGIN:STANDARD
TZOFFSETFROM:+0000
TZOFFSETTO:+0000
TZNAME:UTC
DTSTART:20240101T000000
END:STANDARD
END:VTIMEZONE
BEGIN:VEVENT
DTSTART;TZID=UTC:20250228T170000
DTEND;TZID=UTC:20250228T170000
DTSTAMP:20260419T210145
CREATED:20250222T194450Z
LAST-MODIFIED:20250222T195008Z
UID:22823-1740762000-1740762000@sunburyshores.org
SUMMARY:PERFform 25
DESCRIPTION:PERForm 25 – New Brunswick Performance Art Tour 2025 \nGalerie Sans Nom presents PERForm 25\, a captivating performance art tour showcasing dynamic artists! Join us for a thought-provoking journey through live art\, featuring: \n✨ Linda Rae Dornan✨ Mathieu Léger✨ Annie France Noel (Bouctouche • Moncton)✨ Mario Cormier (Edmundston)✨ Lucas Morneau (Saint John • Sackville)✨ Holly Timpener (Fredericton) \nFirst stop: Sunbury Shores Art & Nature Centre\, Saint AndrewsFebruary 28\, 2025⏰ 5:00 PM \nDon’t miss this extraordinary exploration of contemporary performance art!
URL:https://sunburyshores.org/event/perfform-25/
LOCATION:Sunbury Shores\, 139 Water Street\, St Andrews\, New Brunswick\, E5B 1A7\, Canada
CATEGORIES:Event,Free
END:VEVENT
END:VCALENDAR