BEGIN:VCALENDAR
VERSION:2.0
PRODID:-//Sunbury Shores - ECPv6.15.20//NONSGML v1.0//EN
CALSCALE:GREGORIAN
METHOD:PUBLISH
X-ORIGINAL-URL:https://sunburyshores.org
X-WR-CALDESC:Events for Sunbury Shores
REFRESH-INTERVAL;VALUE=DURATION:PT1H
X-Robots-Tag:noindex
X-PUBLISHED-TTL:PT1H
BEGIN:VTIMEZONE
TZID:UTC
BEGIN:STANDARD
TZOFFSETFROM:+0000
TZOFFSETTO:+0000
TZNAME:UTC
DTSTART:20240101T000000
END:STANDARD
END:VTIMEZONE
BEGIN:VEVENT
DTSTART;TZID=UTC:20250426T093000
DTEND;TZID=UTC:20250427T163000
DTSTAMP:20260420T003339
CREATED:20250120T191904Z
LAST-MODIFIED:20250120T191904Z
UID:22615-1745659800-1745771400@sunburyshores.org
SUMMARY:Workshop: Sculptural Paper Collage w Roisin Cadieux
DESCRIPTION:Learn how to use paper with different textures and finishes to create forms and sculptures.
URL:https://sunburyshores.org/event/workshop-sculptural-paper-collage-w-roisin-cadieux/
LOCATION:Sunbury Shores\, 139 Water Street\, St Andrews\, New Brunswick\, E5B 1A7\, Canada
ORGANIZER;CN="Sunbury Shores":MAILTO:info@sunburyshores.org
END:VEVENT
END:VCALENDAR