BEGIN:VCALENDAR
VERSION:2.0
PRODID:-//Sunbury Shores - ECPv6.15.20//NONSGML v1.0//EN
CALSCALE:GREGORIAN
METHOD:PUBLISH
X-ORIGINAL-URL:https://sunburyshores.org
X-WR-CALDESC:Events for Sunbury Shores
REFRESH-INTERVAL;VALUE=DURATION:PT1H
X-Robots-Tag:noindex
X-PUBLISHED-TTL:PT1H
BEGIN:VTIMEZONE
TZID:UTC
BEGIN:STANDARD
TZOFFSETFROM:+0000
TZOFFSETTO:+0000
TZNAME:UTC
DTSTART:20240101T000000
END:STANDARD
END:VTIMEZONE
BEGIN:VEVENT
DTSTART;VALUE=DATE:20250507
DTEND;VALUE=DATE:20250508
DTSTAMP:20260420T021830
CREATED:20250504T212137Z
LAST-MODIFIED:20250504T212748Z
UID:22976-1746576000-1746662399@sunburyshores.org
SUMMARY:Mental Wellness: As we Age
DESCRIPTION:
URL:https://sunburyshores.org/event/mental-wellness-as-we-age/
LOCATION:New Brunswick
CATEGORIES:Event,Free
END:VEVENT
BEGIN:VEVENT
DTSTART;TZID=UTC:20250507T183000
DTEND;TZID=UTC:20250507T213000
DTSTAMP:20260420T021830
CREATED:20250504T214708Z
LAST-MODIFIED:20250504T221705Z
UID:23004-1746642600-1746653400@sunburyshores.org
SUMMARY:Annual Rossmount Inn Fundraising Dinner
DESCRIPTION:Join us for an evening of fine dining and a silent auction to help support our programming in 2025. \n\n\n\nPurchase tickets here \n\n\n\n\n 
URL:https://sunburyshores.org/event/annual-rossmount-inn-fundraising-dinner/
LOCATION:New Brunswick
CATEGORIES:Event,Fundraiser,Ticketed
END:VEVENT
END:VCALENDAR