BEGIN:VCALENDAR
VERSION:2.0
PRODID:-//Sunbury Shores - ECPv6.15.20//NONSGML v1.0//EN
CALSCALE:GREGORIAN
METHOD:PUBLISH
X-WR-CALNAME:Sunbury Shores
X-ORIGINAL-URL:https://sunburyshores.org
X-WR-CALDESC:Events for Sunbury Shores
REFRESH-INTERVAL;VALUE=DURATION:PT1H
X-Robots-Tag:noindex
X-PUBLISHED-TTL:PT1H
BEGIN:VTIMEZONE
TZID:UTC
BEGIN:STANDARD
TZOFFSETFROM:+0000
TZOFFSETTO:+0000
TZNAME:UTC
DTSTART:20240101T000000
END:STANDARD
END:VTIMEZONE
BEGIN:VEVENT
DTSTART;TZID=UTC:20250607T100000
DTEND;TZID=UTC:20250607T120000
DTSTAMP:20260420T035731
CREATED:20250517T205845Z
LAST-MODIFIED:20250517T205845Z
UID:23052-1749290400-1749297600@sunburyshores.org
SUMMARY:Grow Your Own Microgreens Workshop with Brian Coggin
DESCRIPTION:Grow Your Own Microgreens Workshop with Brian Coggin\, ECW\, Blacks Harbour \nSaturday June 7\, 10:00 a.m. to Noon\nThe registration fee is $50 This should be paid to By-the-Sea Gardeners by\ne-transfer\, cheque or cash no later than May 28\, our next talk night.\n(Register early – numbers are limited) \nThe workshop will include an illustrated presentation with Q & A time\, the planting of seed trays followed by harvest practice (with tasting) and storage and composting information. \nParticipants are encouraged to bring their own containers – clear plastic clamshells or similar containers with clear tops work well (a limited number of containers will be available). Potting mix will be provided. \nParticipants will receive a copy of Brian’s presentation\, a printed planting guide\, and seed information. \nFor further information please contact Sue Rangeley at 506-469-0492
URL:https://sunburyshores.org/event/grow-your-own-microgreens-workshop-with-brian-coggin/
LOCATION:New Brunswick
CATEGORIES:Event
END:VEVENT
BEGIN:VEVENT
DTSTART;TZID=UTC:20250607T110000
DTEND;TZID=UTC:20250607T120000
DTSTAMP:20260420T035731
CREATED:20250410T010834Z
LAST-MODIFIED:20250603T180000Z
UID:22957-1749294000-1749297600@sunburyshores.org
SUMMARY:Artist Talk: Pazienza & Bourque
DESCRIPTION:The public is invited to join artists Jennifer Pazienza and Paul Édouard Bourque with author Carole\nMartignacco and moderator Muriel Jarvis as they explore the vital relationship between art and\nnature. Drawing on the artists’ joint exhibition\, the discussion will include how we allow nature to\ninhabit us\, and how we inhabit nature.
URL:https://sunburyshores.org/event/artist-talk-pazienza-bourque/
LOCATION:Sunbury Shores\, 139 Water Street\, St Andrews\, New Brunswick\, E5B 1A7\, Canada
CATEGORIES:Free,Talks
ORGANIZER;CN="Sunbury Shores":MAILTO:info@sunburyshores.org
END:VEVENT
END:VCALENDAR