BEGIN:VCALENDAR
VERSION:2.0
PRODID:-//Sunbury Shores - ECPv6.15.20//NONSGML v1.0//EN
CALSCALE:GREGORIAN
METHOD:PUBLISH
X-ORIGINAL-URL:https://sunburyshores.org
X-WR-CALDESC:Events for Sunbury Shores
REFRESH-INTERVAL;VALUE=DURATION:PT1H
X-Robots-Tag:noindex
X-PUBLISHED-TTL:PT1H
BEGIN:VTIMEZONE
TZID:UTC
BEGIN:STANDARD
TZOFFSETFROM:+0000
TZOFFSETTO:+0000
TZNAME:UTC
DTSTART:20240101T000000
END:STANDARD
END:VTIMEZONE
BEGIN:VEVENT
DTSTART;VALUE=DATE:20250614
DTEND;VALUE=DATE:20250629
DTSTAMP:20260420T035832
CREATED:20250527T191518Z
LAST-MODIFIED:20250527T195952Z
UID:23092-1749859200-1751155199@sunburyshores.org
SUMMARY:CLASS 2025 - EARTHFest: Activities
DESCRIPTION:Get Crafty at Sunbury Shores – June 14–28! \nJoin us for two weeks of hands-on creativity! Drop by anytime to:✂️ Make your own junk journalAdd to our collaborative weaving and arm-knitting installationsTry your hand at visible mending to refresh and repair your clothes \nWeekend Drop-In Sessions (Saturday\, June 14 – morning & afternoon) feature:✨ On-site facilitators to guide and support you in any of the project stations✨ A special Visible Mending Workshop to extend the life of your clothing—with flair! \nAll are welcome! \n\n\nDrop-in activities are free (donations encouraged) \n\n\nVisible Mending Workshop is $5–$15 sliding scale \nPlease see https://sunburyshores.org/event/visible-mending-workshop/\nContact info@sunburyshores.org or ask at the front desk for info on sliding scale \n\n\nMake sure to check out the other EARTHFest activities happening in June!
URL:https://sunburyshores.org/event/class-2025-earthfest-activities/
LOCATION:Sunbury Shores\, 139 Water Street\, St Andrews\, New Brunswick\, E5B 1A7\, Canada
ORGANIZER;CN="Sunbury Shores":MAILTO:info@sunburyshores.org
END:VEVENT
END:VCALENDAR