BEGIN:VCALENDAR
VERSION:2.0
PRODID:-//Sunbury Shores - ECPv6.15.20//NONSGML v1.0//EN
CALSCALE:GREGORIAN
METHOD:PUBLISH
X-ORIGINAL-URL:https://sunburyshores.org
X-WR-CALDESC:Events for Sunbury Shores
REFRESH-INTERVAL;VALUE=DURATION:PT1H
X-Robots-Tag:noindex
X-PUBLISHED-TTL:PT1H
BEGIN:VTIMEZONE
TZID:UTC
BEGIN:STANDARD
TZOFFSETFROM:+0000
TZOFFSETTO:+0000
TZNAME:UTC
DTSTART:20240101T000000
END:STANDARD
END:VTIMEZONE
BEGIN:VEVENT
DTSTART;TZID=UTC:20250808T170000
DTEND;TZID=UTC:20250808T190000
DTSTAMP:20260420T074304
CREATED:20250521T195232Z
LAST-MODIFIED:20250521T195239Z
UID:23074-1754672400-1754679600@sunburyshores.org
SUMMARY:Opening: The Art of Balance
DESCRIPTION:Join us for the opening of Kyla Chung’s show\, The Art of Balance\, on August 8\, 5 – 7 pm. Finger food and a cash bar will be available. \nThrough abstract painting\, Kyla Chung explores the complexity of the unseen force we know as Karma from the Buddhist tradition and represents the return of our actions using circular forms and figure depictions. The Art of Balance represents the emotions felt from both positive and negative karma and invites viewers to reflect on the implications of their everyday decisions.
URL:https://sunburyshores.org/event/opening-the-art-of-balance/
LOCATION:New Brunswick
END:VEVENT
END:VCALENDAR