BEGIN:VCALENDAR
VERSION:2.0
PRODID:-//Sunbury Shores - ECPv6.15.20//NONSGML v1.0//EN
CALSCALE:GREGORIAN
METHOD:PUBLISH
X-ORIGINAL-URL:https://sunburyshores.org
X-WR-CALDESC:Events for Sunbury Shores
REFRESH-INTERVAL;VALUE=DURATION:PT1H
X-Robots-Tag:noindex
X-PUBLISHED-TTL:PT1H
BEGIN:VTIMEZONE
TZID:UTC
BEGIN:STANDARD
TZOFFSETFROM:+0000
TZOFFSETTO:+0000
TZNAME:UTC
DTSTART:20240101T000000
END:STANDARD
END:VTIMEZONE
BEGIN:VEVENT
DTSTART;TZID=UTC:20251016T180000
DTEND;TZID=UTC:20251016T190000
DTSTAMP:20260420T105322
CREATED:20251001T183747Z
LAST-MODIFIED:20251001T183747Z
UID:23430-1760637600-1760641200@sunburyshores.org
SUMMARY:Speaker Series: Manny Travers
DESCRIPTION:Taking up Space: Artist-Run Centres in the Contemporary Arts Scene \nTaking up Space delves into the unique nature of artist-run centres and how they behave in contrast to professional art spaces. Third Space\, the only itinerant artist-run centre in Uptown Saint John\, was first created as an organization by artists\, for artists\, but what does that mean compared to its creative counterparts? Learn more about how this spaceless organization operates and its relationship with the contemporary arts scene of Saint John through this talk\, hosted by Manny Travers\, Executive Director of the organization. \nManny Travers (he/him/il) is a queer multidisciplinary artist and arts administrator from Wolastoq (Fredericton) based in Menaquesk (Saint John)\, New Brunswick. He holds a Bachelor of Fine Arts and a minor in Visual Communications & Culture from Mount Allison University\, alongside a Certificate in Contemporary Management of Arts & Culture from the University of New Brunswick. He currently works as the Executive Director for Third Space\, an itinerant artist-run centre in Uptown Saint John. With a passion for accessibility and the arts\, Manny collaborates with local and regional organizations to support these causes\, including AANFA (Atlantic Art at Night Festivals Alliance)\, Atlantis (Association of Artist-Run Centres from the Atlantic)\, and Chroma (2SLGBTQIA+ organization). His artistic practice includes drawing and printmaking themed around purposeful incompleteness.
URL:https://sunburyshores.org/event/speaker-series-manny-travers-3/
LOCATION:Sunbury Shores\, 139 Water Street\, St Andrews\, New Brunswick\, E5B 1A7\, Canada
CATEGORIES:Event
END:VEVENT
END:VCALENDAR