BEGIN:VCALENDAR
VERSION:2.0
PRODID:-//Sunbury Shores - ECPv6.15.20//NONSGML v1.0//EN
CALSCALE:GREGORIAN
METHOD:PUBLISH
X-WR-CALNAME:Sunbury Shores
X-ORIGINAL-URL:https://sunburyshores.org
X-WR-CALDESC:Events for Sunbury Shores
REFRESH-INTERVAL;VALUE=DURATION:PT1H
X-Robots-Tag:noindex
X-PUBLISHED-TTL:PT1H
BEGIN:VTIMEZONE
TZID:UTC
BEGIN:STANDARD
TZOFFSETFROM:+0000
TZOFFSETTO:+0000
TZNAME:UTC
DTSTART:20240101T000000
END:STANDARD
END:VTIMEZONE
BEGIN:VEVENT
DTSTART;TZID=UTC:20251018T130000
DTEND;TZID=UTC:20251018T150000
DTSTAMP:20260420T105050
CREATED:20251015T141045Z
LAST-MODIFIED:20251015T141045Z
UID:23473-1760792400-1760799600@sunburyshores.org
SUMMARY:Indulge: Wine Tasting
DESCRIPTION:Join us on Saturday as we take part in the Indulge Wine Tasting Trail! We’re stop #16 on the map\, come by the gallery to sample a great wine pairing in a beautiful setting. \nWith 30+ tasting locations\, live music\, and amazing local food and drink\, it’s the perfect way to explore St. Andrews.
URL:https://sunburyshores.org/event/indulge-wine-tasting/
LOCATION:Sunbury Shores\, 139 Water Street\, St Andrews\, New Brunswick\, E5B 1A7\, Canada
CATEGORIES:Event
END:VEVENT
END:VCALENDAR