BEGIN:VCALENDAR
VERSION:2.0
PRODID:-//Sunbury Shores - ECPv6.15.20//NONSGML v1.0//EN
CALSCALE:GREGORIAN
METHOD:PUBLISH
X-ORIGINAL-URL:https://sunburyshores.org
X-WR-CALDESC:Events for Sunbury Shores
REFRESH-INTERVAL;VALUE=DURATION:PT1H
X-Robots-Tag:noindex
X-PUBLISHED-TTL:PT1H
BEGIN:VTIMEZONE
TZID:UTC
BEGIN:STANDARD
TZOFFSETFROM:+0000
TZOFFSETTO:+0000
TZNAME:UTC
DTSTART:20240101T000000
END:STANDARD
END:VTIMEZONE
BEGIN:VEVENT
DTSTART;TZID=UTC:20251025T100000
DTEND;TZID=UTC:20251025T150000
DTSTAMP:20260420T105337
CREATED:20251008T150011Z
LAST-MODIFIED:20251008T150011Z
UID:23462-1761386400-1761404400@sunburyshores.org
SUMMARY:Sunbury Shores Plant Sale
DESCRIPTION:Join us for our much loved indoor plant sale\, a long-standing tradition rooted in the gallery’s Nature-side legacy\, dating back to Dick Saunders and John Castell. \nWe’ll have a beautiful selection of small to medium potted plants\, plus a few larger statement pieces. Each plant comes with basic care instructions\, making them perfect for both seasoned plant lovers and budding green thumbs. \nAll proceeds support the Sunbury Gallery\, come early for the best pick!
URL:https://sunburyshores.org/event/sunbury-shores-plant-sale/
LOCATION:Sunbury Shores\, 139 Water Street\, St Andrews\, New Brunswick\, E5B 1A7\, Canada
CATEGORIES:Event
END:VEVENT
END:VCALENDAR