BEGIN:VCALENDAR
VERSION:2.0
PRODID:-//Sunbury Shores - ECPv6.15.20//NONSGML v1.0//EN
CALSCALE:GREGORIAN
METHOD:PUBLISH
X-WR-CALNAME:Sunbury Shores
X-ORIGINAL-URL:https://sunburyshores.org
X-WR-CALDESC:Events for Sunbury Shores
REFRESH-INTERVAL;VALUE=DURATION:PT1H
X-Robots-Tag:noindex
X-PUBLISHED-TTL:PT1H
BEGIN:VTIMEZONE
TZID:UTC
BEGIN:STANDARD
TZOFFSETFROM:+0000
TZOFFSETTO:+0000
TZNAME:UTC
DTSTART:20240101T000000
END:STANDARD
END:VTIMEZONE
BEGIN:VEVENT
DTSTART;TZID=UTC:20251108T120000
DTEND;TZID=UTC:20251108T160000
DTSTAMP:20260420T123602
CREATED:20251008T145054Z
LAST-MODIFIED:20251028T180713Z
UID:23459-1762603200-1762617600@sunburyshores.org
SUMMARY:Moss and Mindfulness Workshop
DESCRIPTION:Mindfulness and Moss: The Power of Art and Nature in a Time of Climate Crisis\nThe event is free but please register in advance as space is limited \n  \n“Stitching Connections\, Cultivating Harmony: Embrace Nature’s Presence\, One Thread at a Time.” \nLed by artist and climate advocate Danielle Smith\, Mindfulness and Moss is a four-hour\, community-based workshop exploring the intersection of art\, mindfulness\, and climate resilience. Blending fiber arts\, reflection\, and shared storytelling\, the workshop invites participants to slow down\, reconnect with nature\, and find grounding through creative practice. \nParticipants will engage in guided reflection\, gentle grounding activities\, and collaborative art-making using slow stitching—a meditative technique that encourages presence and imperfection. Each participant will create or contribute to a larger collective artwork known as the bed of moss\, symbolizing connection\, growth\, and active hope in a time of environmental uncertainty. \nThrough dialogue and shared experiences\, participants will: \n\nExplore how art and nature can foster personal resilience and emotional well-being.\nBuild connections within their community.\nLeave behind a meaningful “nature story.”\nDiscover pathways for engaging with local climate solutions.
URL:https://sunburyshores.org/event/moss-and-mindfulness/
LOCATION:Sunbury Shores\, 139 Water Street\, St Andrews\, New Brunswick\, E5B 1A7\, Canada
CATEGORIES:Event
END:VEVENT
END:VCALENDAR