BEGIN:VCALENDAR
VERSION:2.0
PRODID:-//Sunbury Shores - ECPv6.15.20//NONSGML v1.0//EN
CALSCALE:GREGORIAN
METHOD:PUBLISH
X-WR-CALNAME:Sunbury Shores
X-ORIGINAL-URL:https://sunburyshores.org
X-WR-CALDESC:Events for Sunbury Shores
REFRESH-INTERVAL;VALUE=DURATION:PT1H
X-Robots-Tag:noindex
X-PUBLISHED-TTL:PT1H
BEGIN:VTIMEZONE
TZID:UTC
BEGIN:STANDARD
TZOFFSETFROM:+0000
TZOFFSETTO:+0000
TZNAME:UTC
DTSTART:20240101T000000
END:STANDARD
END:VTIMEZONE
BEGIN:VEVENT
DTSTART;TZID=UTC:20251120T180000
DTEND;TZID=UTC:20251120T190000
DTSTAMP:20260420T124238
CREATED:20251107T154419Z
LAST-MODIFIED:20251107T154419Z
UID:23541-1763661600-1763665200@sunburyshores.org
SUMMARY:Speaker Series: Alanna Baird\, A Residency in Motion
DESCRIPTION:Alanna Baird was an artist in residence aboard an expedition ship\, it was an expedition through the Students On Ice Foundation. It was sponsored by DFO. It was called:\n“Ocean Conservation Expedition – Nova Scotia and Bay of Fundy”\n\nin Sept 2022 Alanna joined the ship Polar Prince in Cape Breton and travelled along the NS coast and into the bay of Fundy with a cohort of indigineous youth & elders\, scientists\, blue ocean industry representatives\, Museum of Nature staff as well as the SOI expedition staff.
URL:https://sunburyshores.org/event/speaker-series-alanna-baird-a-residency-in-motion/
LOCATION:New Brunswick
END:VEVENT
END:VCALENDAR