BEGIN:VCALENDAR
VERSION:2.0
PRODID:-//Sunbury Shores - ECPv6.15.20//NONSGML v1.0//EN
CALSCALE:GREGORIAN
METHOD:PUBLISH
X-ORIGINAL-URL:https://sunburyshores.org
X-WR-CALDESC:Events for Sunbury Shores
REFRESH-INTERVAL;VALUE=DURATION:PT1H
X-Robots-Tag:noindex
X-PUBLISHED-TTL:PT1H
BEGIN:VTIMEZONE
TZID:UTC
BEGIN:STANDARD
TZOFFSETFROM:+0000
TZOFFSETTO:+0000
TZNAME:UTC
DTSTART:20240101T000000
END:STANDARD
END:VTIMEZONE
BEGIN:VEVENT
DTSTART;TZID=UTC:20251127T183000
DTEND;TZID=UTC:20251127T213000
DTSTAMP:20260420T124345
CREATED:20251119T162302Z
LAST-MODIFIED:20251119T162302Z
UID:23560-1764268200-1764279000@sunburyshores.org
SUMMARY:Eidlitz Award Celebration Party
DESCRIPTION:Join us at Drewhaven for the celebration of the Eidlitz award\, given to a renowned artist from our community – Theresa MacKnight. Purchase your tickets through the link found below! \n  \n 
URL:https://sunburyshores.org/event/eidlitz-award-celebration-party/
LOCATION:New Brunswick
END:VEVENT
END:VCALENDAR