BEGIN:VCALENDAR
VERSION:2.0
PRODID:-//Sunbury Shores - ECPv6.15.20//NONSGML v1.0//EN
CALSCALE:GREGORIAN
METHOD:PUBLISH
X-WR-CALNAME:Sunbury Shores
X-ORIGINAL-URL:https://sunburyshores.org
X-WR-CALDESC:Events for Sunbury Shores
REFRESH-INTERVAL;VALUE=DURATION:PT1H
X-Robots-Tag:noindex
X-PUBLISHED-TTL:PT1H
BEGIN:VTIMEZONE
TZID:UTC
BEGIN:STANDARD
TZOFFSETFROM:+0000
TZOFFSETTO:+0000
TZNAME:UTC
DTSTART:20240101T000000
END:STANDARD
END:VTIMEZONE
BEGIN:VEVENT
DTSTART;TZID=UTC:20251208T180000
DTEND;TZID=UTC:20251208T203000
DTSTAMP:20260420T141812
CREATED:20251127T194913Z
LAST-MODIFIED:20251127T194913Z
UID:23578-1765216800-1765225800@sunburyshores.org
SUMMARY:Drink and Draw
DESCRIPTION:Join us at Saint Andrews Brewing Company on Monday\, December 8th for a social evening of drawing. Bring your own materials\, grab a drink\, and enjoy the company of others while getting creative!
URL:https://sunburyshores.org/event/drink-and-draw/
LOCATION:Saint Andrews Brewing Company\, 201 Water Street\, St. Andrews\, New Brunswick\, E5B 1Y2\, Canada
ORGANIZER;CN="Sunbury Shores":MAILTO:info@sunburyshores.org
END:VEVENT
END:VCALENDAR