BEGIN:VCALENDAR
VERSION:2.0
PRODID:-//Sunbury Shores - ECPv6.15.20//NONSGML v1.0//EN
CALSCALE:GREGORIAN
METHOD:PUBLISH
X-WR-CALNAME:Sunbury Shores
X-ORIGINAL-URL:https://sunburyshores.org
X-WR-CALDESC:Events for Sunbury Shores
REFRESH-INTERVAL;VALUE=DURATION:PT1H
X-Robots-Tag:noindex
X-PUBLISHED-TTL:PT1H
BEGIN:VTIMEZONE
TZID:UTC
BEGIN:STANDARD
TZOFFSETFROM:+0000
TZOFFSETTO:+0000
TZNAME:UTC
DTSTART:20250101T000000
END:STANDARD
END:VTIMEZONE
BEGIN:VEVENT
DTSTART;TZID=UTC:20260228T130000
DTEND;TZID=UTC:20260228T150000
DTSTAMP:20260420T173752
CREATED:20260205T184915Z
LAST-MODIFIED:20260212T173938Z
UID:23758-1772283600-1772290800@sunburyshores.org
SUMMARY:Eraser Linocut Stamps with Kate Giles
DESCRIPTION:Februarys edition of Hands On: A Monthly guided Art Activity. This month enjoy making small Linocut stamps from erasers with Kate Giles.
URL:https://sunburyshores.org/event/eraser-linocut-stamps-with-kate-giles/
LOCATION:Sunbury Shores\, 139 Water Street\, St Andrews\, New Brunswick\, E5B 1A7\, Canada
END:VEVENT
BEGIN:VEVENT
DTSTART;TZID=UTC:20260228T140000
DTEND;TZID=UTC:20260228T153000
DTSTAMP:20260420T173752
CREATED:20260201T160136Z
LAST-MODIFIED:20260204T192334Z
UID:23731-1772287200-1772292600@sunburyshores.org
SUMMARY:Fundy Bay Writers: Poetry and Prose
DESCRIPTION:Enjoy Poetry? Come join our monthly series of poetry and prose readings\, hosted by Fundy Bay Writers at Sunbury Shores Art Centre on the he last Saturday of every month. \nThere is no cost to attend (though donations to Sunbury Shores are always welcome)\nCome listen and enjoy OR bring some favourite poems to read aloud. \nRegistration is not required\, but if you would like to join us please contact info@sunburyshores.org or call 506-529-3386 so that we may know how many plan to attend
URL:https://sunburyshores.org/event/fundy-bay-writers-poetry-and-prose/
LOCATION:Sunbury Shores\, 139 Water Street\, St Andrews\, New Brunswick\, E5B 1A7\, Canada
CATEGORIES:Event,Free
END:VEVENT
END:VCALENDAR