BEGIN:VCALENDAR
VERSION:2.0
PRODID:-//Sunbury Shores - ECPv6.15.20//NONSGML v1.0//EN
CALSCALE:GREGORIAN
METHOD:PUBLISH
X-WR-CALNAME:Sunbury Shores
X-ORIGINAL-URL:https://sunburyshores.org
X-WR-CALDESC:Events for Sunbury Shores
REFRESH-INTERVAL;VALUE=DURATION:PT1H
X-Robots-Tag:noindex
X-PUBLISHED-TTL:PT1H
BEGIN:VTIMEZONE
TZID:UTC
BEGIN:STANDARD
TZOFFSETFROM:+0000
TZOFFSETTO:+0000
TZNAME:UTC
DTSTART:20250101T000000
END:STANDARD
END:VTIMEZONE
BEGIN:VEVENT
DTSTART;TZID=UTC:20260520T130000
DTEND;TZID=UTC:20260520T160000
DTSTAMP:20260420T220708
CREATED:20260205T185948Z
LAST-MODIFIED:20260212T174420Z
UID:23764-1779282000-1779292800@sunburyshores.org
SUMMARY:Gentle Drawing with Stephanie Weirathmueller
DESCRIPTION:May’s Edition of Hands On: A Monthly Guided Art Activity. This month dive into Gentle Drawing with artist Stephanie Weirathmueller.
URL:https://sunburyshores.org/event/gentle-drawing-with-stephanie-weirathmueller/
LOCATION:New Brunswick
END:VEVENT
END:VCALENDAR