BEGIN:VCALENDAR
VERSION:2.0
PRODID:-//Sunbury Shores - ECPv6.15.20//NONSGML v1.0//EN
CALSCALE:GREGORIAN
METHOD:PUBLISH
X-WR-CALNAME:Sunbury Shores
X-ORIGINAL-URL:https://sunburyshores.org
X-WR-CALDESC:Events for Sunbury Shores
REFRESH-INTERVAL;VALUE=DURATION:PT1H
X-Robots-Tag:noindex
X-PUBLISHED-TTL:PT1H
BEGIN:VTIMEZONE
TZID:UTC
BEGIN:STANDARD
TZOFFSETFROM:+0000
TZOFFSETTO:+0000
TZNAME:UTC
DTSTART:20230101T000000
END:STANDARD
END:VTIMEZONE
BEGIN:VEVENT
DTSTART;TZID=UTC:20240120T100000
DTEND;TZID=UTC:20240120T150000
DTSTAMP:20260423T211605
CREATED:20240108T170407Z
LAST-MODIFIED:20240110T230930Z
UID:21291-1705744800-1705762800@sunburyshores.org
SUMMARY:Open Studio: Drawing
DESCRIPTION:Open Studio – Drawing with Theresa MacKnight\nAn opportunity to engage with others in the shared space of the Main Studio (2nd floor). Bring your own materials and artworks in progress and share ideas and skills. \nArtist Theresa MacKnight (drawing) will talk about her work and working methods. \nCLICK HERE TO REGISTER
URL:https://sunburyshores.org/event/open-studio-draw/
LOCATION:Sunbury Shores\, 139 Water Street\, St Andrews\, New Brunswick\, E5B 1A7\, Canada
CATEGORIES:Courses
ATTACH;FMTTYPE=image/jpeg:https://sunburyshores.org/wp-content/uploads/sites/10/2024/01/courses-2024-2-e1704927739542.jpg
ORGANIZER;CN="Sunbury Shores":MAILTO:info@sunburyshores.org
END:VEVENT
END:VCALENDAR