BEGIN:VCALENDAR
VERSION:2.0
PRODID:-//Sunbury Shores - ECPv6.15.20//NONSGML v1.0//EN
CALSCALE:GREGORIAN
METHOD:PUBLISH
X-WR-CALNAME:Sunbury Shores
X-ORIGINAL-URL:https://sunburyshores.org
X-WR-CALDESC:Events for Sunbury Shores
REFRESH-INTERVAL;VALUE=DURATION:PT1H
X-Robots-Tag:noindex
X-PUBLISHED-TTL:PT1H
BEGIN:VTIMEZONE
TZID:UTC
BEGIN:STANDARD
TZOFFSETFROM:+0000
TZOFFSETTO:+0000
TZNAME:UTC
DTSTART:20230101T000000
END:STANDARD
END:VTIMEZONE
BEGIN:VEVENT
DTSTART;TZID=UTC:20240729T093000
DTEND;TZID=UTC:20240802T163000
DTSTAMP:20260423T113155
CREATED:20240522T162436Z
LAST-MODIFIED:20240522T162436Z
UID:21963-1722245400-1722616200@sunburyshores.org
SUMMARY:Painting with Maggie Rose
DESCRIPTION:This five-day intensive workshop is for artists with some painting experience\, although all levels will be accommodated and will benefit. Throughout the course\, a wide variety of painting techniques and approaches will be explored. Maggie will demonstrate various ways to “build” your paintings so that the results are complex and reflect and enhance the intent of your narratives. Artists will be encouraged to step out of their comfort zone and to take their work to places of new discovery and levels of excellence. There will be an emphasis on understanding the underlying abstraction of all sound work. \nSubject matter is up to individual artists and working from life and/or photographs are equally encouraged. Participants are asked to arrive with a variety of possible ideas to explore. Maggie will provide prompts and suggestions for anyone interested in a more exercise-based approach. Participants will have the option to develop one piece or several pieces throughout the week. Contemporary painters and artists of historical significance and will be discussed and incorporated into all lessons\, providing inspiration throughout the week.\nA professional artist and much sought-after art instructor in Canada and the US\, Maggie Rose received her MFA from The New York Academy of Art\, graduating cum laude and was the recipient of the Forbes Foundation Travel Grant for excellence in painting. She taught at the New York Academy for over 20 years while maintaining her own studio practice. Maggie is known as a gifted and generous teacher and your week of study is sure to be action-packed\, loaded with information and\, as class size is limited\, you will receive plenty of individual attention. \nInstructor: Maggie Rose\nDate: July 29 – August 2\, 2024\nTime: Monday – Friday\, 9:30 am – 4:30 pm\nMin/Max students: 6/13\nMaterials: Bring your own\nRegistration Deadline: July 15\, 2024 \nCourse only fee: $695\nEarly Bird course fee: $650 by May 30\, 2024 \nSunbury Shores Courses + Huntsman Accommodation & Meals Package:\n· $1\,325 / $1\,280 Early Bird before May 30 – single occupancy per person (includes 6 nights accommodations in Anderson House and 16 meals (Links Crest dining and box lunches)\n· $1\,205 / $1\,160 Early Bird before May 30 – double occupancy per person (includes 6 nights accommodations in Anderson House and 16 meals (Links Crest dining and box lunches) \nCheck out the Huntsman accommodations here: https://sunburyshores.org/accommodation/ \nREGISTER
URL:https://sunburyshores.org/event/painting-with-maggie-rose/
LOCATION:Sunbury Shores\, 139 Water Street\, St Andrews\, New Brunswick\, E5B 1A7\, Canada
CATEGORIES:Courses
ORGANIZER;CN="Sunbury Shores":MAILTO:info@sunburyshores.org
END:VEVENT
BEGIN:VEVENT
DTSTART;TZID=UTC:20240803T100000
DTEND;TZID=UTC:20240803T150000
DTSTAMP:20260423T113155
CREATED:20240522T155618Z
LAST-MODIFIED:20240522T155618Z
UID:21950-1722679200-1722697200@sunburyshores.org
SUMMARY:Open Studio
DESCRIPTION:Twice a month\, Sunbury Shores offers an opportunity to engage with others in the shared space of the Main Studio. It’s time for creation in a collaborative environment. Bring your own materials and artworks in progress and share ideas and skills. For all levels of experience. A facilitator will be present. Coffee and tea provided. \nPre-register or drop in! \nSign up
URL:https://sunburyshores.org/event/open-studio-10/
LOCATION:Sunbury Shores\, 139 Water Street\, St Andrews\, New Brunswick\, E5B 1A7\, Canada
CATEGORIES:Courses
ORGANIZER;CN="Sunbury Shores":MAILTO:info@sunburyshores.org
END:VEVENT
BEGIN:VEVENT
DTSTART;TZID=UTC:20240817T100000
DTEND;TZID=UTC:20240817T150000
DTSTAMP:20260423T113155
CREATED:20240522T155718Z
LAST-MODIFIED:20240522T155718Z
UID:21952-1723888800-1723906800@sunburyshores.org
SUMMARY:Open Studio
DESCRIPTION:Twice a month\, Sunbury Shores offers an opportunity to engage with others in the shared space of the Main Studio. It’s time for creation in a collaborative environment. Bring your own materials and artworks in progress and share ideas and skills. For all levels of experience. A facilitator will be present. Coffee and tea provided. \nPre-register or drop in! \nSign up
URL:https://sunburyshores.org/event/open-studio-11/
LOCATION:Sunbury Shores\, 139 Water Street\, St Andrews\, New Brunswick\, E5B 1A7\, Canada
CATEGORIES:Courses
ORGANIZER;CN="Sunbury Shores":MAILTO:info@sunburyshores.org
END:VEVENT
BEGIN:VEVENT
DTSTART;TZID=UTC:20240824T150000
DTEND;TZID=UTC:20240824T180000
DTSTAMP:20260423T113155
CREATED:20240723T191009Z
LAST-MODIFIED:20240813T162442Z
UID:22207-1724511600-1724522400@sunburyshores.org
SUMMARY:The Art of Conscious Connected Breathing
DESCRIPTION:Discover the magic of your Breath through the art of Conscious Connected Breathing \nConscious Connected Breathing is done in a continuous rhythm while lying down comfortably. It serves to: \n\nRegulate the nervous system\,\nSupport heart-brain coherence\,\nIntegrate suppressed emotions\,\nCalm stress/anxiety and facilitate deep inner connection.\n\nIt also can potentially allow us to enter into expanded states of awareness and an abundance of bliss. \nEveryone welcome! \nGuided by Colin Bird \nCONTACT  Colin at luminarysanctum@gmail.com to RSVP
URL:https://sunburyshores.org/event/conscious-connected-breathing/
LOCATION:Sunbury Shores\, 139 Water Street\, St Andrews\, New Brunswick\, E5B 1A7\, Canada
CATEGORIES:Courses
END:VEVENT
END:VCALENDAR