BEGIN:VCALENDAR
VERSION:2.0
PRODID:-//Sunbury Shores - ECPv6.15.20//NONSGML v1.0//EN
CALSCALE:GREGORIAN
METHOD:PUBLISH
X-ORIGINAL-URL:https://sunburyshores.org
X-WR-CALDESC:Events for Sunbury Shores
REFRESH-INTERVAL;VALUE=DURATION:PT1H
X-Robots-Tag:noindex
X-PUBLISHED-TTL:PT1H
BEGIN:VTIMEZONE
TZID:UTC
BEGIN:STANDARD
TZOFFSETFROM:+0000
TZOFFSETTO:+0000
TZNAME:UTC
DTSTART:20230101T000000
END:STANDARD
END:VTIMEZONE
BEGIN:VEVENT
DTSTART;TZID=UTC:20240616T120000
DTEND;TZID=UTC:20240616T160000
DTSTAMP:20260423T131146
CREATED:20240214T173607Z
LAST-MODIFIED:20240214T173925Z
UID:21551-1718539200-1718553600@sunburyshores.org
SUMMARY:EARTHFest
DESCRIPTION:Sunbury Shores is participating in EARTHFest on Ministers Island! \ndetails coming soon…
URL:https://sunburyshores.org/event/earthfest2024/
LOCATION:New Brunswick
CATEGORIES:Free
END:VEVENT
BEGIN:VEVENT
DTSTART;TZID=UTC:20240620T160000
DTEND;TZID=UTC:20240620T180000
DTSTAMP:20260423T131146
CREATED:20240606T130339Z
LAST-MODIFIED:20240607T151716Z
UID:22026-1718899200-1718906400@sunburyshores.org
SUMMARY:Panel Discussion
DESCRIPTION:Join the panel discussion “Peace in Water Through Boundaries” with artist Deanna Musgrave\, Fundy Baykeeper Matt Abbott and Kalen Mawer from Eastern Charlotte Waterways. Speakers will explore the changing nature of human’s relationship with water that is reflected in Deanna’s exhibition Water Witness on exhibition until July 6\, 2024. \nSunbury Shores Arts and Nature Centre\n139 Water Street\, Saint Andrews\nThursday\, June 20\, 2024\n4:00 PM \nEVERYONE WELCOME. COFFEE AND TEA.
URL:https://sunburyshores.org/event/panel-discussion/
LOCATION:Sunbury Shores\, 139 Water Street\, St Andrews\, New Brunswick\, E5B 1A7\, Canada
CATEGORIES:Free,Talks
ORGANIZER;CN="Sunbury Shores":MAILTO:info@sunburyshores.org
END:VEVENT
BEGIN:VEVENT
DTSTART;TZID=UTC:20240630T133000
DTEND;TZID=UTC:20240630T153000
DTSTAMP:20260423T131146
CREATED:20240618T180811Z
LAST-MODIFIED:20240621T143502Z
UID:22071-1719754200-1719761400@sunburyshores.org
SUMMARY:Haiku Workshop
DESCRIPTION:Introduction to Haiku Workshop\, Sunday June 30\, 1:30 – 3:30 pm\n\nAngela Leuck\, President of Haiku Canada and Carole Martignacco\, of Fundy Bay Writers will co-present how to write Haiku\, three-line Japanese-inspired nature poetry. The workshop features Angela’s book ” Porch to Porch”\, with copies available for sale.\n\nSuggested workshop donation for Haiku Canada: $10
URL:https://sunburyshores.org/event/haiku-workshop/
LOCATION:Sunbury Shores\, 139 Water Street\, St Andrews\, New Brunswick\, E5B 1A7\, Canada
CATEGORIES:Free
ATTACH;FMTTYPE=image/png:https://sunburyshores.org/wp-content/uploads/sites/10/2024/06/283f6e5f-0e23-3b97-59e6-bdf9e2e141c3-e1718980446103.png
ORGANIZER;CN="Sunbury Shores":MAILTO:info@sunburyshores.org
END:VEVENT
END:VCALENDAR