BEGIN:VCALENDAR
VERSION:2.0
PRODID:-//Sunbury Shores - ECPv6.15.20//NONSGML v1.0//EN
CALSCALE:GREGORIAN
METHOD:PUBLISH
X-ORIGINAL-URL:https://sunburyshores.org
X-WR-CALDESC:Events for Sunbury Shores
REFRESH-INTERVAL;VALUE=DURATION:PT1H
X-Robots-Tag:noindex
X-PUBLISHED-TTL:PT1H
BEGIN:VTIMEZONE
TZID:UTC
BEGIN:STANDARD
TZOFFSETFROM:+0000
TZOFFSETTO:+0000
TZNAME:UTC
DTSTART:20240101T000000
END:STANDARD
END:VTIMEZONE
BEGIN:VEVENT
DTSTART;TZID=UTC:20250704T170000
DTEND;TZID=UTC:20250704T190000
DTSTAMP:20260423T191333
CREATED:20250521T195009Z
LAST-MODIFIED:20250529T190922Z
UID:23069-1751648400-1751655600@sunburyshores.org
SUMMARY:Opening: Magpie in a Multiverse
DESCRIPTION:Join us for the opening of Terry Graff’s show\, Magpie in a Multiverse\, on July 4\, 5 – 7 pm. Finger food and a cash bar will be available. \nTerry Graff uses found objects to create works o f assemblage art free of expense. Magpie in a Multiverse challenges notions of throw-away culture\, turning scavenged recycled objects into reflections of nature and wildlife. Echoed by eras of material scarcity\, Graff’s work reinforces the idea that objects can always be repurposed and reused\, challenging the obsolescence of everyday items.
URL:https://sunburyshores.org/event/opening-mapie-in-a-multiverse/
LOCATION:Sunbury Shores\, 139 Water Street\, St Andrews\, New Brunswick\, E5B 1A7\, Canada
CATEGORIES:Free,Openings
ORGANIZER;CN="Sunbury Shores":MAILTO:info@sunburyshores.org
END:VEVENT
BEGIN:VEVENT
DTSTART;TZID=UTC:20250704T170000
DTEND;TZID=UTC:20250704T190000
DTSTAMP:20260423T191333
CREATED:20250521T195110Z
LAST-MODIFIED:20250521T195138Z
UID:23071-1751648400-1751655600@sunburyshores.org
SUMMARY:Opening: Living Large
DESCRIPTION:Join us for the opening of Lesley Bartlett’s first solo show\, Living Large\, on July 4\, 5 – 7 pm. Finger food and a cash bar will be available. \nLesly Bartlett’s Living Large combats conventional standards of beauty in modern media and art by celebrating the beauty of large bodies. Representing characteristics of large bodies that are commonly approached with negative sensitivity\, Bartlett’s work dismantles these fears\, reinforcing the reality of beauty in average body types. As a result\, Living Large reconnects the romanticism of figure painting with real-life representations of people.
URL:https://sunburyshores.org/event/opening-living-large/
LOCATION:Sunbury Shores\, 139 Water Street\, St Andrews\, New Brunswick\, E5B 1A7\, Canada
CATEGORIES:Free,Openings
ORGANIZER;CN="Sunbury Shores":MAILTO:info@sunburyshores.org
END:VEVENT
BEGIN:VEVENT
DTSTART;TZID=UTC:20250717T180000
DTEND;TZID=UTC:20250717T190000
DTSTAMP:20260423T191333
CREATED:20250617T180922Z
LAST-MODIFIED:20250617T181404Z
UID:23161-1752775200-1752778800@sunburyshores.org
SUMMARY:Speaker Series: Joan M. Schwartz
DESCRIPTION:Join us for the second talk in our new Speaker Series. With decades of experience at the National Archives of Canada\, Joan M. Schwartz will bring her expertise in archives\, memory\, and materiality to talk about early photography and the stories it tells on New Brunswick. \nIn Search of Early Photography in New Brunswick\, with Joan M Schwartz\, Professor Emerita\, Queen’s University. Photography came early to the east coast cities and towns of British North America. Saint John and many smaller places in New Brunswick supported a thriving and innovative community of professional photographers. Their photographs have been lost to fire\, flood\, and neglect\, but their stories can still be told.  Come learn how we can uncover a history of early New Brunswick photography that is based not on images\, but on words.
URL:https://sunburyshores.org/event/speaker-series-joan-m-schwartz/
LOCATION:Sunbury Shores\, 139 Water Street\, St Andrews\, New Brunswick\, E5B 1A7\, Canada
CATEGORIES:Free,Talks
ORGANIZER;CN="Sunbury Shores":MAILTO:info@sunburyshores.org
END:VEVENT
BEGIN:VEVENT
DTSTART;VALUE=DATE:20250801
DTEND;VALUE=DATE:20250802
DTSTAMP:20260423T191333
CREATED:20250718T204517Z
LAST-MODIFIED:20250718T204616Z
UID:23245-1754006400-1754092799@sunburyshores.org
SUMMARY:AiR Pop-Up Exhibition: Kaitlyn Derrah (time to be announced)
DESCRIPTION:Join us for a pop-up exhibition to celebrate Kaitlyn Derrah’s time in residence. \nA multi-media enthusiast\, Kaitlyn has explored sculpting\, fashion\, metal arts\, jewelry design\, woodworking\, and painting. Her residence will be spent in the metal shop at Sunbury Shores. See here for more details on current and past residencies.
URL:https://sunburyshores.org/event/air-pop-up-exhibition-kaitlyn-derrah-time-to-be-announced/
LOCATION:New Brunswick
CATEGORIES:Event,Free
ATTACH;FMTTYPE=image/jpeg:https://sunburyshores.org/wp-content/uploads/sites/10/2025/06/Kaitlyn-Derrah.jpg
END:VEVENT
BEGIN:VEVENT
DTSTART;TZID=UTC:20250821T180000
DTEND;TZID=UTC:20250821T190000
DTSTAMP:20260423T191333
CREATED:20250624T185756Z
LAST-MODIFIED:20250821T172452Z
UID:23197-1755799200-1755802800@sunburyshores.org
SUMMARY:Speaker Series has been cancelled this month
DESCRIPTION:Stay tuned for next month’s speaker series!
URL:https://sunburyshores.org/event/speaker-series-brigitte-clavette/
LOCATION:Sunbury Shores\, 139 Water Street\, St Andrews\, New Brunswick\, E5B 1A7\, Canada
CATEGORIES:Free,Talks
ORGANIZER;CN="Sunbury Shores":MAILTO:info@sunburyshores.org
END:VEVENT
BEGIN:VEVENT
DTSTART;TZID=UTC:20250905T170000
DTEND;TZID=UTC:20250905T190000
DTSTAMP:20260423T191333
CREATED:20250805T184230Z
LAST-MODIFIED:20250805T184548Z
UID:23283-1757091600-1757098800@sunburyshores.org
SUMMARY:Opening: Narratives in Bloom
DESCRIPTION:Join us for the opening of Narratives in Bloom\, a solo show of David Zsako’s work\, on September 5\, 5- 7 pm. Finger food and a cash bar will be available. \nDavid Zsako’s Narratives in Bloom uses ethically sourced flora and fauna remains as material for large-scale photographic collages and sculpture. Inspired by the palette of the natural world\, and its ecological and cultural significance\, Narratives in Bloom portrays the subtle beauties of preserved natural life\, bridging the gap between nature and civilization.
URL:https://sunburyshores.org/event/opening-narratives-in-bloom/
LOCATION:Sunbury Shores\, 139 Water Street\, St Andrews\, New Brunswick\, E5B 1A7\, Canada
CATEGORIES:Free,Openings
END:VEVENT
BEGIN:VEVENT
DTSTART;TZID=UTC:20250905T170000
DTEND;TZID=UTC:20250905T190000
DTSTAMP:20260423T191333
CREATED:20250805T184449Z
LAST-MODIFIED:20250805T184504Z
UID:23287-1757091600-1757098800@sunburyshores.org
SUMMARY:Opening: Indigenous Blue
DESCRIPTION:Join us for the opening of Indigenous Blue\, a solo show of work by Brian Francis on September 5\, 5 – 7 pm. Finger food and a cash bar will be available. \nIndigenous Blue by Brian Francis shines light on the natural and spiritual significance of the colour blue within Indigenous cultures. Through a diverse collection of works\, Francis celebrates how blue connects the life-giving traits of the sky and water\, with its ceremonial uses of prayer and meditation. Indigenous Blue invites viewers to find peace within this deeply rooted significance\, and to experience first-hand the meditative power of the colour blue.
URL:https://sunburyshores.org/event/opening-indigenous-blue/
LOCATION:Sunbury Shores\, 139 Water Street\, St Andrews\, New Brunswick\, E5B 1A7\, Canada
CATEGORIES:Event,Free,Openings
END:VEVENT
BEGIN:VEVENT
DTSTART;TZID=UTC:20250910T130000
DTEND;TZID=UTC:20250910T160000
DTSTAMP:20260423T191333
CREATED:20250624T191857Z
LAST-MODIFIED:20250822T180824Z
UID:23199-1757509200-1757520000@sunburyshores.org
SUMMARY:Workshop: The Adventures of Later Life: Aging with purpose\, passion\, and hope
DESCRIPTION:With Professor William Randall \nFollowing on his earlier workshop\, Aging as Adventure at Sunbury Shores in May\, in this lively\, interactive workshop\, Randall will discuss an assortment of practical strategies for infusing laterlife with purpose\, passion\, and hope. This event is free but pre-registration is recommended\, 506-529-3386 or info@sunburyshores.org
URL:https://sunburyshores.org/event/workshop-the-adventures-of-later-life-aging-with-purpose-passion-and-hope/
LOCATION:Sunbury Shores\, 139 Water Street\, St Andrews\, New Brunswick\, E5B 1A7\, Canada
CATEGORIES:Free,workshop
ORGANIZER;CN="Sunbury Shores":MAILTO:info@sunburyshores.org
END:VEVENT
BEGIN:VEVENT
DTSTART;TZID=UTC:20251010T170000
DTEND;TZID=UTC:20251010T190000
DTSTAMP:20260423T191333
CREATED:20250805T184729Z
LAST-MODIFIED:20251001T183254Z
UID:23291-1760115600-1760122800@sunburyshores.org
SUMMARY:Opening: Lucas Morneau's Ballad of the Queer Mummer
DESCRIPTION:Join us for the opening of Lucas Morneau’s solo exhibition\, Ballad of the Queer Mummer\, on October 10\, 5 – 7 pm. Finger food and a cash bar will be available. \nLucas Morneau’s Ballad of the Queer Mummer critiques homophobia in Canadian and Newfoundland culture by addressing similarities between drag art\, and the Newfoundland Christmas tradition of Mummering\, the act of going door to door in costume and entertaining neighbours. By way of Morneau’s alter-ego\, The Queer Mummer\, photographic diptychs and crocheted costumes are used to celebrate how mummering is a queer performance act\, blurring the gender binary.
URL:https://sunburyshores.org/event/opening-ballad-of-the-queer-mummer/
LOCATION:Sunbury Shores\, 139 Water Street\, St Andrews\, New Brunswick\, E5B 1A7\, Canada
CATEGORIES:Free,Openings
END:VEVENT
BEGIN:VEVENT
DTSTART;TZID=UTC:20260228T140000
DTEND;TZID=UTC:20260228T153000
DTSTAMP:20260423T191333
CREATED:20260201T160136Z
LAST-MODIFIED:20260204T192334Z
UID:23731-1772287200-1772292600@sunburyshores.org
SUMMARY:Fundy Bay Writers: Poetry and Prose
DESCRIPTION:Enjoy Poetry? Come join our monthly series of poetry and prose readings\, hosted by Fundy Bay Writers at Sunbury Shores Art Centre on the he last Saturday of every month. \nThere is no cost to attend (though donations to Sunbury Shores are always welcome)\nCome listen and enjoy OR bring some favourite poems to read aloud. \nRegistration is not required\, but if you would like to join us please contact info@sunburyshores.org or call 506-529-3386 so that we may know how many plan to attend
URL:https://sunburyshores.org/event/fundy-bay-writers-poetry-and-prose/
LOCATION:Sunbury Shores\, 139 Water Street\, St Andrews\, New Brunswick\, E5B 1A7\, Canada
CATEGORIES:Event,Free
END:VEVENT
BEGIN:VEVENT
DTSTART;TZID=UTC:20260328T140000
DTEND;TZID=UTC:20260328T153000
DTSTAMP:20260423T191333
CREATED:20260201T160214Z
LAST-MODIFIED:20260201T160314Z
UID:23735-1774706400-1774711800@sunburyshores.org
SUMMARY:Fundy Bay Writers: Poetry and Prose Reading
DESCRIPTION:Enjoy Poetry? Come join our monthly series of poetry and prose readings\, hosted by Fundy Bay Writers at Sunbury Shores Art Centre on the he last Saturday of every month. \nThere is no cost to attend (though donations to Sunbury Shores are always welcome)\nCome listen and enjoy OR bring some favourite poems to read aloud. \nRegistration is not required\, but if you would like to join us please contact info@sunburyshores.org or call 506-529-3386 so that we may know how many plan to attend
URL:https://sunburyshores.org/event/fundy-bay-writers-poetry-and-prose-reading/
LOCATION:Sunbury Shores\, 139 Water Street\, St Andrews\, New Brunswick\, E5B 1A7\, Canada
CATEGORIES:Event,Free
END:VEVENT
BEGIN:VEVENT
DTSTART;TZID=UTC:20260425T140000
DTEND;TZID=UTC:20260425T153000
DTSTAMP:20260423T191333
CREATED:20260201T160428Z
LAST-MODIFIED:20260201T160428Z
UID:23738-1777125600-1777131000@sunburyshores.org
SUMMARY:Fundy Bay Writers: Poetry and Prose Reading
DESCRIPTION:Enjoy Poetry? Come join our monthly series of poetry and prose readings\, hosted by Fundy Bay Writers at Sunbury Shores Art Centre on the he last Saturday of every month. \nThere is no cost to attend (though donations to Sunbury Shores are always welcome)\nCome listen and enjoy OR bring some favourite poems to read aloud. \nRegistration is not required\, but if you would like to join us please contact info@sunburyshores.org or call 506-529-3386 so that we may know how many plan to attend
URL:https://sunburyshores.org/event/fundy-bay-writers-poetry-and-prose-reading-2/
LOCATION:Sunbury Shores\, 139 Water Street\, St Andrews\, New Brunswick\, E5B 1A7\, Canada
CATEGORIES:Event,Free
END:VEVENT
END:VCALENDAR