BEGIN:VCALENDAR
VERSION:2.0
PRODID:-//Sunbury Shores - ECPv6.15.20//NONSGML v1.0//EN
CALSCALE:GREGORIAN
METHOD:PUBLISH
X-ORIGINAL-URL:https://sunburyshores.org
X-WR-CALDESC:Events for Sunbury Shores
REFRESH-INTERVAL;VALUE=DURATION:PT1H
X-Robots-Tag:noindex
X-PUBLISHED-TTL:PT1H
BEGIN:VTIMEZONE
TZID:UTC
BEGIN:STANDARD
TZOFFSETFROM:+0000
TZOFFSETTO:+0000
TZNAME:UTC
DTSTART:20240101T000000
END:STANDARD
END:VTIMEZONE
BEGIN:VEVENT
DTSTART;TZID=UTC:20250912T170000
DTEND;TZID=UTC:20250912T190000
DTSTAMP:20260419T170924
CREATED:20250901T161354Z
LAST-MODIFIED:20250901T161409Z
UID:23364-1757696400-1757703600@sunburyshores.org
SUMMARY:Sunset  Murder Mystery River Cruise
DESCRIPTION:We’re back with another event that puts the fun in fundraising! (and the mur in murder…) \nExcitement is in the air! Get ready to be part of something extraordinary at Sunbury Shores Art and Nature Centre’s fundraising event. It’s an event like no other and we want you to be there! Join us for a relaxing river cruise on board the catamaran Quoddy Link and help us solve the mystery of the murdered tycoon! \nEvery registration to this event  helps supports the 2025/2026 programming at Sunbury Shores Art and Nature Centre and helps us continue bringing arts\, culture\, and creativity to the community. Our work relies on the generosity of our donors and we’re incredibly grateful for the support we receive. This unforgettable evening not only help sustain our work but also guarantees a night of mystery\, laughter\, and fun!
URL:https://sunburyshores.org/event/sunset-murder-mystery-river-cruise/
LOCATION:Quoddy Link Marine\, 20 king st.\, St. Andrews\, New-Brunswick\, E5B 1Y2\, Canada
CATEGORIES:Fundraiser,Ticketed
ORGANIZER;CN="Sunbury Shores":MAILTO:info@sunburyshores.org
END:VEVENT
END:VCALENDAR