BEGIN:VCALENDAR
VERSION:2.0
PRODID:-//Sunbury Shores - ECPv6.15.20//NONSGML v1.0//EN
CALSCALE:GREGORIAN
METHOD:PUBLISH
X-WR-CALNAME:Sunbury Shores
X-ORIGINAL-URL:https://sunburyshores.org
X-WR-CALDESC:Events for Sunbury Shores
REFRESH-INTERVAL;VALUE=DURATION:PT1H
X-Robots-Tag:noindex
X-PUBLISHED-TTL:PT1H
BEGIN:VTIMEZONE
TZID:UTC
BEGIN:STANDARD
TZOFFSETFROM:+0000
TZOFFSETTO:+0000
TZNAME:UTC
DTSTART:20240101T000000
END:STANDARD
END:VTIMEZONE
BEGIN:VEVENT
DTSTART;TZID=UTC:20250619T180000
DTEND;TZID=UTC:20250619T193000
DTSTAMP:20260423T033814
CREATED:20250521T194326Z
LAST-MODIFIED:20250522T214808Z
UID:23067-1750356000-1750361400@sunburyshores.org
SUMMARY:Speaker Series: Ray Cronin on Alex Colville
DESCRIPTION:Join us for the first event in our new speaker series. Ray Cronin from The Beaverbrook Art Gallery will give a talk on renowned Canadian painter\, Alex Colville. \nThis event is free with donations encouraged. Refreshments will be provided.
URL:https://sunburyshores.org/event/speaker-series-ray-cronin-on-alex-colville/
LOCATION:Sunbury Shores\, 139 Water Street\, St Andrews\, New Brunswick\, E5B 1A7\, Canada
CATEGORIES:Free,Talks
ORGANIZER;CN="Sunbury Shores":MAILTO:info@sunburyshores.org
END:VEVENT
END:VCALENDAR