BEGIN:VCALENDAR
VERSION:2.0
PRODID:-//Sunbury Shores - ECPv6.15.20//NONSGML v1.0//EN
CALSCALE:GREGORIAN
METHOD:PUBLISH
X-WR-CALNAME:Sunbury Shores
X-ORIGINAL-URL:https://sunburyshores.org
X-WR-CALDESC:Events for Sunbury Shores
REFRESH-INTERVAL;VALUE=DURATION:PT1H
X-Robots-Tag:noindex
X-PUBLISHED-TTL:PT1H
BEGIN:VTIMEZONE
TZID:UTC
BEGIN:STANDARD
TZOFFSETFROM:+0000
TZOFFSETTO:+0000
TZNAME:UTC
DTSTART:20240101T000000
END:STANDARD
END:VTIMEZONE
BEGIN:VEVENT
DTSTART;TZID=UTC:20250303T093000
DTEND;TZID=UTC:20250307T150000
DTSTAMP:20260419T210224
CREATED:20250201T225941Z
LAST-MODIFIED:20250203T195958Z
UID:22705-1740994200-1741359600@sunburyshores.org
SUMMARY:March Break for Ages 5 - 8 and 9 - 12
DESCRIPTION:Dates: Monday\, March 3rd – Friday\, March 7th\nAges 5 – 8: 9:30 AM – 11:00 AM\nAges 9 – 12: 1:30 AM – 3:00 PM \nCourse Description: \nDuring each session\, students will learn about mixed media and collage by creating 3D works or bring 2D pieces to life with added 3D elements\, by transforming and combining different materials including paint\, wood\, textiles\, paper\, paint\, thread\, found objects and more.  For ages 5-8 years (mornings) and ages 9-12 (afternoons). Min/max 6/12 per session.
URL:https://sunburyshores.org/event/march-break-for-ages-5-8-and-9-12/
LOCATION:Sunbury Shores\, 139 Water Street\, St Andrews\, New Brunswick\, E5B 1A7\, Canada
CATEGORIES:Courses
ORGANIZER;CN="Sunbury Shores":MAILTO:info@sunburyshores.org
END:VEVENT
BEGIN:VEVENT
DTSTART;TZID=UTC:20250307T170000
DTEND;TZID=UTC:20250307T190000
DTSTAMP:20260419T210224
CREATED:20250120T191440Z
LAST-MODIFIED:20250120T192606Z
UID:22611-1741366800-1741374000@sunburyshores.org
SUMMARY:Opening: Fantastical Transformations
DESCRIPTION:Cadieux\, Twombly\, & Pappas \nFantastical Transformations is the work of a collective of three professional artists who explore imaginary\, idyllic\, dreamy and sometimes sinister nature scapes and portraiture. The multimedia exhibition presents a vision that is somewhat creepy yet filled with a spark of levity and fun that embraces the fantastic. \nRoisin Cadieux recycles her massive archive of antique music into paper-based sculptural forms including mythical beasts and animals; Diane Twombly photographs\, then digitally deconstructs abandoned or declining architecture and re-imagines them in more spacious\, dream-inspired landscapes or lost places; and Jeannie Pappas’ sculptural creatures suggest a ceramic menagerie that reflects nature as well as folklore and mysticism.
URL:https://sunburyshores.org/event/fantastical-transformations-cadieux-twombly-pappas/
LOCATION:Sunbury Shores\, 139 Water Street\, St Andrews\, New Brunswick\, E5B 1A7\, Canada
CATEGORIES:Openings
ORGANIZER;CN="Sunbury Shores":MAILTO:info@sunburyshores.org
END:VEVENT
BEGIN:VEVENT
DTSTART;TZID=UTC:20250307T170000
DTEND;TZID=UTC:20250307T190000
DTSTAMP:20260419T210224
CREATED:20250120T191617Z
LAST-MODIFIED:20250120T192445Z
UID:22613-1741366800-1741374000@sunburyshores.org
SUMMARY:Opening: Postcards of Charlotte County & Memory 1-6
DESCRIPTION:  \nPostcards of Charlotte County: Angel Commins \nAngel Commins uses the interplay of colour and form to celebrate the natural environment and its ability to bring peace in an often-challenging world. Through her abstractions of the environment inspired by the beauty she sees in Charlotte County\, Commins looks to form\, line and colour to define the landscape\, create meaning\, and generate an emotional response in the viewer. \n Memory 1-6: Audree Hamelin St Amour \nIn her exhibition\, the series Memory 1-6\, Fredericton artist Audree Hamelin St Amour presents brooches using natural and found elements\, and traditional jewellery techniques and materials. In her work\, she reflects on memory formation and transformation\, and on themes of ephemerality\, transformation\, and mindfulness.
URL:https://sunburyshores.org/event/postcards-of-charlotte-county-memory-1-6/
LOCATION:Sunbury Shores\, 139 Water Street\, St Andrews\, New Brunswick\, E5B 1A7\, Canada
ORGANIZER;CN="Sunbury Shores":MAILTO:info@sunburyshores.org
END:VEVENT
END:VCALENDAR