BEGIN:VCALENDAR
VERSION:2.0
PRODID:-//Sunbury Shores - ECPv6.15.20//NONSGML v1.0//EN
CALSCALE:GREGORIAN
METHOD:PUBLISH
X-WR-CALNAME:Sunbury Shores
X-ORIGINAL-URL:https://sunburyshores.org
X-WR-CALDESC:Events for Sunbury Shores
REFRESH-INTERVAL;VALUE=DURATION:PT1H
X-Robots-Tag:noindex
X-PUBLISHED-TTL:PT1H
BEGIN:VTIMEZONE
TZID:UTC
BEGIN:STANDARD
TZOFFSETFROM:+0000
TZOFFSETTO:+0000
TZNAME:UTC
DTSTART:20250101T000000
END:STANDARD
END:VTIMEZONE
BEGIN:VEVENT
DTSTART;TZID=UTC:20260425T130000
DTEND;TZID=UTC:20260425T160000
DTSTAMP:20260420T190252
CREATED:20260205T185704Z
LAST-MODIFIED:20260212T173903Z
UID:23762-1777122000-1777132800@sunburyshores.org
SUMMARY:Mending What you Cannot See With Laura Roy
DESCRIPTION:Aprils edition of Hands on: A Monthly Guided Art Activity.
URL:https://sunburyshores.org/event/mending-what-you-cannot-see-with-laura-roy/
LOCATION:New Brunswick
END:VEVENT
BEGIN:VEVENT
DTSTART;TZID=UTC:20260425T140000
DTEND;TZID=UTC:20260425T153000
DTSTAMP:20260420T190252
CREATED:20260201T160428Z
LAST-MODIFIED:20260201T160428Z
UID:23738-1777125600-1777131000@sunburyshores.org
SUMMARY:Fundy Bay Writers: Poetry and Prose Reading
DESCRIPTION:Enjoy Poetry? Come join our monthly series of poetry and prose readings\, hosted by Fundy Bay Writers at Sunbury Shores Art Centre on the he last Saturday of every month. \nThere is no cost to attend (though donations to Sunbury Shores are always welcome)\nCome listen and enjoy OR bring some favourite poems to read aloud. \nRegistration is not required\, but if you would like to join us please contact info@sunburyshores.org or call 506-529-3386 so that we may know how many plan to attend
URL:https://sunburyshores.org/event/fundy-bay-writers-poetry-and-prose-reading-2/
LOCATION:Sunbury Shores\, 139 Water Street\, St Andrews\, New Brunswick\, E5B 1A7\, Canada
CATEGORIES:Event,Free
END:VEVENT
BEGIN:VEVENT
DTSTART;TZID=UTC:20260425T173000
DTEND;TZID=UTC:20260425T190000
DTSTAMP:20260420T190252
CREATED:20260407T001536Z
LAST-MODIFIED:20260407T163647Z
UID:24232-1777138200-1777143600@sunburyshores.org
SUMMARY:Stop the Clock: Immersive piano experience with Becky Reesor
DESCRIPTION:Ticket Link: https://www.zeffy.com/en-CA/ticketing/becky-reesor \nApril 25th \n5:30 PM\, doors at 5 PM \nStop the Clock is an immersive piano experience pairing live\, original music with nature-based video projection.\n\n\n\nCreated from a curiosity about the fleeting moments in nature that shape how we feel and perceive the world\, this work brings those impressions into sound and image. For one night only\, this performance includes an homage to Ralph Simpson’s immersive installation\, Songs of the Forest\, Opus I. \nA calm\, continuous performance\, it invites you to slow down\, listen deeply\, and reconnect — both with nature and your own inner landscape. Come as you are. Leave a little lighter. \n\nAccessibility info: A ramp is available via the side door. The installation has floor pieces throughout the room with space to accommodate someone walking through or using mobility devices. If you have questions on the space we’re here to help. Email info@sunburyshores.org or call (506) 529-3386 \nThe audience will be asked to walk throughout the installation for 10-20 minutes and will then be asked to set out their own chair in chosen location. Seating will be available at the room’s perimeter for anyone who does not wish to walk. Staff will be available to help place your seat if needed\, just let us know!
URL:https://sunburyshores.org/event/stop/
LOCATION:Sunbury Shores\, 139 Water Street\, St Andrews\, New Brunswick\, E5B 1A7\, Canada
END:VEVENT
END:VCALENDAR